BEGIN:VCALENDAR
VERSION:2.0
PRODID:-//Chelonia Dive Center - ECPv6.15.13//NONSGML v1.0//EN
CALSCALE:GREGORIAN
METHOD:PUBLISH
X-WR-CALNAME:Chelonia Dive Center
X-ORIGINAL-URL:https://cheloniadc.com
X-WR-CALDESC:Events for Chelonia Dive Center
REFRESH-INTERVAL;VALUE=DURATION:PT1H
X-Robots-Tag:noindex
X-PUBLISHED-TTL:PT1H
BEGIN:VTIMEZONE
TZID:America/Lima
BEGIN:STANDARD
TZOFFSETFROM:-0500
TZOFFSETTO:-0500
TZNAME:-05
DTSTART:20240101T000000
END:STANDARD
END:VTIMEZONE
BEGIN:VEVENT
DTSTART;VALUE=DATE:20250922
DTEND;VALUE=DATE:20251006
DTSTAMP:20260420T031827
CREATED:20250108T195030Z
LAST-MODIFIED:20250108T195030Z
UID:4742-1758499200-1759708799@cheloniadc.com
SUMMARY:Divemaster Camp 2025 - II
DESCRIPTION:¡Únete al Divemaster Camp en Los Órganos\, Piura! 🤿☀️ \nDurante dos semanas intensivas\, vivirás una experiencia transformadora mientras te preparas para convertirte en #PADI #Divemaster. Un viaje de teoría del buceo y destrezas submarinas que te llevará al siguiente nivel. 🌊🏝️ \nIncluye:\n✅ 20 buceos\n✅ Pack de Divemaster (materiales digitales)\n✅ Alquiler completo de equipo de buceo\n✅ Alojamiento (14 días/13 noches)\n✅ Polo y gorro de #CheloniaDC \nRequisitos:\n✅Ser PADI Rescue Diver\n✅Tener 18 años\n✅Contar con 40 buceos registrados\n✅Tener EFR vigente\n✅Apto/a para el buceo según la Declaración Médica \n📆 Cupos limitados\, ¡asegura el tuyo ahora!\n💸 Precio: USD 1\,500 \nMétodo de pago:\nReserva de espacio: USD 500\n1era cuota: USD500\n2da cuota: USD 500 \n¡Vive la aventura y convierte tu pasión en una carrera! 🌊 \n#CheloniaDC #CheloniaDiveCenter #DivemasterCamp #PADIPro
URL:https://cheloniadc.com/evento/divemaster-camp-2025-ii/
CATEGORIES:Divemaster Camp
ATTACH;FMTTYPE=image/jpeg:https://cheloniadc.com/wp-content/uploads/2024/09/Divemaster-1.jpg
END:VEVENT
BEGIN:VEVENT
DTSTART;VALUE=DATE:20250127
DTEND;VALUE=DATE:20250210
DTSTAMP:20260420T031827
CREATED:20241030T171337Z
LAST-MODIFIED:20250108T194849Z
UID:4251-1737936000-1739145599@cheloniadc.com
SUMMARY:Divemaster Camp 2025 - I
DESCRIPTION:¡Únete al Divemaster Camp en Los Órganos\, Piura! 🤿☀️\nDurante dos semanas intensivas\, vivirás una experiencia transformadora mientras te preparas para convertirte en #PADI #Divemaster. Un viaje de teoría del buceo y destrezas submarinas que te llevará al siguiente nivel. 🌊🏝️ \nIncluye:\n✅ 20 buceos\n✅ Pack de Divemaster (materiales digitales)\n✅ Alquiler completo de equipo de buceo\n✅ Alojamiento (14 días/13 noches)\n✅ Polo y gorro de #CheloniaDC \nRequisitos:\n✅Ser PADI Rescue Diver\n✅Tener 18 años\n✅Contar con 40 buceos registrados\n✅Tener EFR vigente\n✅Apto/a para el buceo según la Declaración Médica \n📆 Cupos limitados\, ¡asegura el tuyo ahora!\n💸 Precio: USD 1\,500 \nMétodo de pago:\nReserva de espacio: USD 500\n1era cuota: USD500\n2da cuota: USD 500 \n¡Vive la aventura y convierte tu pasión en una carrera! 🌊 \n#CheloniaDC #CheloniaDiveCenter #DivemasterCamp #PADIPro
URL:https://cheloniadc.com/evento/divemaster-camp-2025-i/
CATEGORIES:Divemaster Camp
ATTACH;FMTTYPE=image/jpeg:https://cheloniadc.com/wp-content/uploads/2024/09/Divemaster-1.jpg
END:VEVENT
END:VCALENDAR